BEGIN:VCALENDAR
VERSION:2.0
PRODID:-//VfV Concordia Alvesrode - ECPv6.15.20//NONSGML v1.0//EN
CALSCALE:GREGORIAN
METHOD:PUBLISH
X-ORIGINAL-URL:https://www.vfvconcordia.de
X-WR-CALDESC:Veranstaltungen für VfV Concordia Alvesrode
REFRESH-INTERVAL;VALUE=DURATION:PT1H
X-Robots-Tag:noindex
X-PUBLISHED-TTL:PT1H
BEGIN:VTIMEZONE
TZID:UTC
BEGIN:STANDARD
TZOFFSETFROM:+0000
TZOFFSETTO:+0000
TZNAME:UTC
DTSTART:20220101T000000
END:STANDARD
END:VTIMEZONE
BEGIN:VEVENT
DTSTART;TZID=UTC:20231003T110000
DTEND;TZID=UTC:20231003T170000
DTSTAMP:20260419T134539
CREATED:20230814T051814Z
LAST-MODIFIED:20230814T051814Z
UID:4268-1696330800-1696352400@www.vfvconcordia.de
SUMMARY:Helfer-Party Wisent-RUN 2023
DESCRIPTION:Die legendäre Helfer-Party steigt diesmal am/im Concordentreff vom VfV. \nEs wird reichlich für euer leibliches Wohl gesorgt. \nWeitere Infos folgen…
URL:https://www.vfvconcordia.de/event/helfer-party-wisent-run-2023
LOCATION:Concordentreff\, VfV Concordia Alvesrode e.V.\, Sportplatz\, Alvesrode
CATEGORIES:Bogenschießen,Fitness,Fußball,Laufen,Nordic Walking,Tischtennis,Turnen,Verein
END:VEVENT
END:VCALENDAR