BEGIN:VCALENDAR
VERSION:2.0
PRODID:-//VfV Concordia Alvesrode - ECPv6.15.20//NONSGML v1.0//EN
CALSCALE:GREGORIAN
METHOD:PUBLISH
X-ORIGINAL-URL:https://www.vfvconcordia.de
X-WR-CALDESC:Veranstaltungen für VfV Concordia Alvesrode
REFRESH-INTERVAL;VALUE=DURATION:PT1H
X-Robots-Tag:noindex
X-PUBLISHED-TTL:PT1H
BEGIN:VTIMEZONE
TZID:UTC
BEGIN:STANDARD
TZOFFSETFROM:+0000
TZOFFSETTO:+0000
TZNAME:UTC
DTSTART:20220101T000000
END:STANDARD
END:VTIMEZONE
BEGIN:VEVENT
DTSTART;TZID=UTC:20230818T150000
DTEND;TZID=UTC:20230818T213000
DTSTAMP:20260419T135110
CREATED:20221222T165811Z
LAST-MODIFIED:20230216T145804Z
UID:2044-1692370800-1692394200@www.vfvconcordia.de
SUMMARY:5.Wisent-RUN
DESCRIPTION:Ausschreibung 2023
URL:https://www.vfvconcordia.de/event/5-wisent-run
LOCATION:Wisentgehege Springe\, 31832
CATEGORIES:Laufen,Nordic Walking,Verein
ATTACH;FMTTYPE=image/jpeg:https://www.vfvconcordia.de/wp-content/uploads/2022/12/Wisent-RUN-2023-Logo-Laufpass-scaled.jpg
END:VEVENT
BEGIN:VEVENT
DTSTART;TZID=UTC:20230818T190000
DTEND;TZID=UTC:20230818T210000
DTSTAMP:20260419T135110
CREATED:20230810T090845Z
LAST-MODIFIED:20230810T090845Z
UID:4165-1692385200-1692392400@www.vfvconcordia.de
SUMMARY:SG Völksen/Alvesrode/Mittelrode vs. SV Weetzen
DESCRIPTION:
URL:https://www.vfvconcordia.de/event/sg-voelksen-alvesrode-mittelrode-vs-sv-weetzen
LOCATION:Rasenplatz\, SV Mittelrode\, Gut Bockerode\, Springe OT Bockerode\, 31832\, Deutschland
CATEGORIES:Fußball,Verein
END:VEVENT
END:VCALENDAR