BEGIN:VCALENDAR
VERSION:2.0
PRODID:-//VfV Concordia Alvesrode - ECPv6.15.20//NONSGML v1.0//EN
CALSCALE:GREGORIAN
METHOD:PUBLISH
X-ORIGINAL-URL:https://www.vfvconcordia.de
X-WR-CALDESC:Veranstaltungen für VfV Concordia Alvesrode
REFRESH-INTERVAL;VALUE=DURATION:PT1H
X-Robots-Tag:noindex
X-PUBLISHED-TTL:PT1H
BEGIN:VTIMEZONE
TZID:UTC
BEGIN:STANDARD
TZOFFSETFROM:+0000
TZOFFSETTO:+0000
TZNAME:UTC
DTSTART:20220101T000000
END:STANDARD
END:VTIMEZONE
BEGIN:VEVENT
DTSTART;TZID=UTC:20230622T180000
DTEND;TZID=UTC:20230622T190000
DTSTAMP:20260421T104604
CREATED:20230628T165543Z
LAST-MODIFIED:20230628T165543Z
UID:4015-1687456800-1687460400@www.vfvconcordia.de
SUMMARY:Letztes Training der Jugendlichen vor der Sommerpause
DESCRIPTION:Die Jugendlichen der Sparte können heute das letzte Mal vor der Sommerpause von 18.19 Uhr trainieren. \nEs erwartet euch eine Trainingseinheit in etwas anderer Form 😉 \nDas erste Training nach der Sommerpause ist am 24.08.2023
URL:https://www.vfvconcordia.de/event/letztes-training-der-jugendlichen-vor-der-sommerpause
CATEGORIES:Tischtennis,Verein
END:VEVENT
END:VCALENDAR