BEGIN:VCALENDAR
VERSION:2.0
PRODID:-//VfV Concordia Alvesrode - ECPv6.15.20//NONSGML v1.0//EN
CALSCALE:GREGORIAN
METHOD:PUBLISH
X-ORIGINAL-URL:https://www.vfvconcordia.de
X-WR-CALDESC:Veranstaltungen für VfV Concordia Alvesrode
REFRESH-INTERVAL;VALUE=DURATION:PT1H
X-Robots-Tag:noindex
X-PUBLISHED-TTL:PT1H
BEGIN:VTIMEZONE
TZID:UTC
BEGIN:STANDARD
TZOFFSETFROM:+0000
TZOFFSETTO:+0000
TZNAME:UTC
DTSTART:20220101T000000
END:STANDARD
END:VTIMEZONE
BEGIN:VEVENT
DTSTART;TZID=UTC:20230421T190000
DTEND;TZID=UTC:20230421T210000
DTSTAMP:20260423T155304
CREATED:20230220T124257Z
LAST-MODIFIED:20230220T124257Z
UID:3356-1682103600-1682110800@www.vfvconcordia.de
SUMMARY:Ü40 SG Völksen/Alvesrode/Mittelrode vs. SV Weetzen
DESCRIPTION:
URL:https://www.vfvconcordia.de/event/ue40-sg-voelksen-alvesrode-mittelrode-vs-sv-weetzen
LOCATION:Rasenplatz VfV Concordia Alvesrode\, Neue Rodenbeeke\, Springe\, 3182\, Deutschland
CATEGORIES:Fußball,Verein
END:VEVENT
END:VCALENDAR